BEGIN:VCALENDAR
VERSION:2.0
PRODID:-//Raise The Bar Trivia - ECPv6.15.20//NONSGML v1.0//EN
CALSCALE:GREGORIAN
METHOD:PUBLISH
X-ORIGINAL-URL:https://raisethebartrivia.com
X-WR-CALDESC:Events for Raise The Bar Trivia
REFRESH-INTERVAL;VALUE=DURATION:PT1H
X-Robots-Tag:noindex
X-PUBLISHED-TTL:PT1H
BEGIN:VTIMEZONE
TZID:America/New_York
BEGIN:DAYLIGHT
TZOFFSETFROM:-0500
TZOFFSETTO:-0400
TZNAME:EDT
DTSTART:20250309T070000
END:DAYLIGHT
BEGIN:STANDARD
TZOFFSETFROM:-0400
TZOFFSETTO:-0500
TZNAME:EST
DTSTART:20251102T060000
END:STANDARD
BEGIN:DAYLIGHT
TZOFFSETFROM:-0500
TZOFFSETTO:-0400
TZNAME:EDT
DTSTART:20260308T070000
END:DAYLIGHT
BEGIN:STANDARD
TZOFFSETFROM:-0400
TZOFFSETTO:-0500
TZNAME:EST
DTSTART:20261101T060000
END:STANDARD
BEGIN:DAYLIGHT
TZOFFSETFROM:-0500
TZOFFSETTO:-0400
TZNAME:EDT
DTSTART:20270314T070000
END:DAYLIGHT
BEGIN:STANDARD
TZOFFSETFROM:-0400
TZOFFSETTO:-0500
TZNAME:EST
DTSTART:20271107T060000
END:STANDARD
END:VTIMEZONE
BEGIN:VEVENT
DTSTART;TZID=America/New_York:20260428T180000
DTEND;TZID=America/New_York:20260428T200000
DTSTAMP:20260425T162114
CREATED:20260417T162908Z
LAST-MODIFIED:20260417T162908Z
UID:2912-1777399200-1777406400@raisethebartrivia.com
SUMMARY:Sea Dog Brewing
DESCRIPTION:
URL:https://raisethebartrivia.com/trivia/sea-dog-brewing-50/
LOCATION:Sea Dog Brewing- Exeter\, 5 Water Street\, Exeter\, NH\, 03833\, United States
CATEGORIES:Trivia
END:VEVENT
BEGIN:VEVENT
DTSTART;TZID=America/New_York:20260428T183000
DTEND;TZID=America/New_York:20260428T203000
DTSTAMP:20260425T162114
CREATED:20260417T162828Z
LAST-MODIFIED:20260417T162828Z
UID:2910-1777401000-1777408200@raisethebartrivia.com
SUMMARY:Axe & Ale
DESCRIPTION:
URL:https://raisethebartrivia.com/trivia/axe-ale-27/
LOCATION:Axe & Ale\, 9 Old Lake Shore Road Unit 2\, Gilford\, NH\, 03801\, United States
CATEGORIES:Trivia
END:VEVENT
BEGIN:VEVENT
DTSTART;TZID=America/New_York:20260428T183000
DTEND;TZID=America/New_York:20260428T203000
DTSTAMP:20260425T162114
CREATED:20260417T163015Z
LAST-MODIFIED:20260417T163015Z
UID:2916-1777401000-1777408200@raisethebartrivia.com
SUMMARY:Pepper's Seafood
DESCRIPTION:
URL:https://raisethebartrivia.com/trivia/peppers-seafood-28/
LOCATION:Pepper’s Seafood\, 243 Main Street\, Ogunquit\, ME\, 03907\, United States
CATEGORIES:Trivia
END:VEVENT
BEGIN:VEVENT
DTSTART;TZID=America/New_York:20260428T190000
DTEND;TZID=America/New_York:20260428T200000
DTSTAMP:20260425T162114
CREATED:20260417T162605Z
LAST-MODIFIED:20260417T162605Z
UID:2904-1777402800-1777406400@raisethebartrivia.com
SUMMARY:Thirsty Moose
DESCRIPTION:
URL:https://raisethebartrivia.com/trivia/thirsty-moose-116/
LOCATION:Thirsty Moose – Exeter\, 72 Portsmouth Avenue\, Exeter\, NH\, 03833\, United States
CATEGORIES:Trivia
END:VEVENT
BEGIN:VEVENT
DTSTART;TZID=America/New_York:20260428T190000
DTEND;TZID=America/New_York:20260428T210000
DTSTAMP:20260425T162114
CREATED:20260417T162743Z
LAST-MODIFIED:20260417T162743Z
UID:2908-1777402800-1777410000@raisethebartrivia.com
SUMMARY:Thirsty Moose
DESCRIPTION:
URL:https://raisethebartrivia.com/trivia/thirsty-moose-118/
LOCATION:Thirsty Moose – Dover\, 83 Washigton Street\, Dover\, NH\, 03820\, United States
CATEGORIES:Trivia
END:VEVENT
BEGIN:VEVENT
DTSTART;TZID=America/New_York:20260428T190000
DTEND;TZID=America/New_York:20260428T210000
DTSTAMP:20260425T162114
CREATED:20260417T162940Z
LAST-MODIFIED:20260417T162940Z
UID:2914-1777402800-1777410000@raisethebartrivia.com
SUMMARY:Mill Towne Tavern
DESCRIPTION:
URL:https://raisethebartrivia.com/trivia/mill-towne-tavern-26/
LOCATION:Mill Towne Tavern\, 898 Main Street\, Sanford\, ME\, 04073\, United States
CATEGORIES:Trivia
END:VEVENT
BEGIN:VEVENT
DTSTART;TZID=America/New_York:20260428T190000
DTEND;TZID=America/New_York:20260428T210000
DTSTAMP:20260425T162114
CREATED:20260417T163043Z
LAST-MODIFIED:20260417T163043Z
UID:2918-1777402800-1777410000@raisethebartrivia.com
SUMMARY:Pat's Pizza
DESCRIPTION:
URL:https://raisethebartrivia.com/trivia/pats-pizza-28/
LOCATION:Pat’s Pizza\, 209 US Rt. 1\, Scarborough\, ME\, 04074\, United States
CATEGORIES:Trivia
END:VEVENT
BEGIN:VEVENT
DTSTART;TZID=America/New_York:20260428T190000
DTEND;TZID=America/New_York:20260428T210000
DTSTAMP:20260425T162114
CREATED:20260417T163134Z
LAST-MODIFIED:20260417T163134Z
UID:2920-1777402800-1777410000@raisethebartrivia.com
SUMMARY:The Barn
DESCRIPTION:
URL:https://raisethebartrivia.com/trivia/the-barn-26/
LOCATION:The Barn\, 5 Ring Street\, Amesbury\, MA\, 01913\, United States
CATEGORIES:Trivia
END:VEVENT
BEGIN:VEVENT
DTSTART;TZID=America/New_York:20260428T190000
DTEND;TZID=America/New_York:20260428T210000
DTSTAMP:20260425T162114
CREATED:20260417T163205Z
LAST-MODIFIED:20260417T163205Z
UID:2922-1777402800-1777410000@raisethebartrivia.com
SUMMARY:The Old Salt
DESCRIPTION:
URL:https://raisethebartrivia.com/trivia/the-old-salt-19/
LOCATION:The Old Salt & Lamie’s Tavern\, 490 Lafayette Road\, Hampton\, NH\, 03842\, United States
CATEGORIES:Trivia
END:VEVENT
BEGIN:VEVENT
DTSTART;TZID=America/New_York:20260428T201500
DTEND;TZID=America/New_York:20260428T211500
DTSTAMP:20260425T162114
CREATED:20260417T162642Z
LAST-MODIFIED:20260417T162642Z
UID:2906-1777407300-1777410900@raisethebartrivia.com
SUMMARY:Thirsty Moose
DESCRIPTION:
URL:https://raisethebartrivia.com/trivia/thirsty-moose-117/
LOCATION:Thirsty Moose – Exeter\, 72 Portsmouth Avenue\, Exeter\, NH\, 03833\, United States
CATEGORIES:Trivia
END:VEVENT
END:VCALENDAR