BEGIN:VCALENDAR
VERSION:2.0
PRODID:-//Raise The Bar Trivia - ECPv6.15.20//NONSGML v1.0//EN
CALSCALE:GREGORIAN
METHOD:PUBLISH
X-ORIGINAL-URL:https://raisethebartrivia.com
X-WR-CALDESC:Events for Raise The Bar Trivia
REFRESH-INTERVAL;VALUE=DURATION:PT1H
X-Robots-Tag:noindex
X-PUBLISHED-TTL:PT1H
BEGIN:VTIMEZONE
TZID:America/New_York
BEGIN:DAYLIGHT
TZOFFSETFROM:-0500
TZOFFSETTO:-0400
TZNAME:EDT
DTSTART:20250309T070000
END:DAYLIGHT
BEGIN:STANDARD
TZOFFSETFROM:-0400
TZOFFSETTO:-0500
TZNAME:EST
DTSTART:20251102T060000
END:STANDARD
BEGIN:DAYLIGHT
TZOFFSETFROM:-0500
TZOFFSETTO:-0400
TZNAME:EDT
DTSTART:20260308T070000
END:DAYLIGHT
BEGIN:STANDARD
TZOFFSETFROM:-0400
TZOFFSETTO:-0500
TZNAME:EST
DTSTART:20261101T060000
END:STANDARD
BEGIN:DAYLIGHT
TZOFFSETFROM:-0500
TZOFFSETTO:-0400
TZNAME:EDT
DTSTART:20270314T070000
END:DAYLIGHT
BEGIN:STANDARD
TZOFFSETFROM:-0400
TZOFFSETTO:-0500
TZNAME:EST
DTSTART:20271107T060000
END:STANDARD
END:VTIMEZONE
BEGIN:VEVENT
DTSTART;TZID=America/New_York:20260420T180000
DTEND;TZID=America/New_York:20260420T200000
DTSTAMP:20260425T162045
CREATED:20260417T152157Z
LAST-MODIFIED:20260417T152157Z
UID:2790-1776708000-1776715200@raisethebartrivia.com
SUMMARY:Thirsty Moose
DESCRIPTION:
URL:https://raisethebartrivia.com/trivia/thirsty-moose-109/
LOCATION:Thirsty Moose – Merrimack\, 360 Daniel Webster Highway\, Merrimack\, NH\, 03054\, United States
CATEGORIES:Trivia
END:VEVENT
BEGIN:VEVENT
DTSTART;TZID=America/New_York:20260420T180000
DTEND;TZID=America/New_York:20260420T200000
DTSTAMP:20260425T162045
CREATED:20260417T152321Z
LAST-MODIFIED:20260417T152321Z
UID:2794-1776708000-1776715200@raisethebartrivia.com
SUMMARY:Sebago Brewing
DESCRIPTION:
URL:https://raisethebartrivia.com/trivia/sebago-brewing-25/
LOCATION:Sebego Brew Pub\, 67 Portland Rd\, Kennebunk\, ME\, 04043\, United States
CATEGORIES:Trivia
END:VEVENT
BEGIN:VEVENT
DTSTART;TZID=America/New_York:20260420T180000
DTEND;TZID=America/New_York:20260420T200000
DTSTAMP:20260425T162045
CREATED:20260417T152353Z
LAST-MODIFIED:20260417T152353Z
UID:2796-1776708000-1776715200@raisethebartrivia.com
SUMMARY:Austin Street Brewing
DESCRIPTION:
URL:https://raisethebartrivia.com/trivia/austin-street-brewing-22/
LOCATION:Austin Street Brewery\, 115 Fox Street\, Portland\, ME\, 04101\, United States
CATEGORIES:Trivia
END:VEVENT
BEGIN:VEVENT
DTSTART;TZID=America/New_York:20260420T190000
DTEND;TZID=America/New_York:20260420T210000
DTSTAMP:20260425T162045
CREATED:20260417T152244Z
LAST-MODIFIED:20260417T152244Z
UID:2792-1776711600-1776718800@raisethebartrivia.com
SUMMARY:Hobb's Tavern
DESCRIPTION:
URL:https://raisethebartrivia.com/trivia/hobbs-tavern-23/
LOCATION:Hobb’s Brewpub & Tavern\, 2415 Route 16\, West Ossipee\, NH\, 03890\, United States
CATEGORIES:Trivia
END:VEVENT
BEGIN:VEVENT
DTSTART;TZID=America/New_York:20260420T193000
DTEND;TZID=America/New_York:20260420T213000
DTSTAMP:20260425T162045
CREATED:20260417T152429Z
LAST-MODIFIED:20260417T152429Z
UID:2798-1776713400-1776720600@raisethebartrivia.com
SUMMARY:McCarthy's Pub
DESCRIPTION:
URL:https://raisethebartrivia.com/trivia/mccarthys-pub-24/
LOCATION:McCarthy’s Restaurant\, 5 East Walnut Street\, Belchertown\, MA\, 01007\, United States
CATEGORIES:Trivia
END:VEVENT
BEGIN:VEVENT
DTSTART;TZID=America/New_York:20260420T201500
DTEND;TZID=America/New_York:20260420T211500
DTSTAMP:20260425T162045
CREATED:20260417T152550Z
LAST-MODIFIED:20260417T152550Z
UID:2802-1776716100-1776719700@raisethebartrivia.com
SUMMARY:Thirsty Moose
DESCRIPTION:
URL:https://raisethebartrivia.com/trivia/thirsty-moose-111/
LOCATION:Thirsty Moose – Exeter\, 72 Portsmouth Avenue\, Exeter\, NH\, 03833\, United States
CATEGORIES:Trivia
END:VEVENT
END:VCALENDAR