BEGIN:VCALENDAR
VERSION:2.0
PRODID:-//Raise The Bar Trivia - ECPv6.15.20//NONSGML v1.0//EN
CALSCALE:GREGORIAN
METHOD:PUBLISH
X-ORIGINAL-URL:https://raisethebartrivia.com
X-WR-CALDESC:Events for Raise The Bar Trivia
REFRESH-INTERVAL;VALUE=DURATION:PT1H
X-Robots-Tag:noindex
X-PUBLISHED-TTL:PT1H
BEGIN:VTIMEZONE
TZID:America/New_York
BEGIN:DAYLIGHT
TZOFFSETFROM:-0500
TZOFFSETTO:-0400
TZNAME:EDT
DTSTART:20250309T070000
END:DAYLIGHT
BEGIN:STANDARD
TZOFFSETFROM:-0400
TZOFFSETTO:-0500
TZNAME:EST
DTSTART:20251102T060000
END:STANDARD
BEGIN:DAYLIGHT
TZOFFSETFROM:-0500
TZOFFSETTO:-0400
TZNAME:EDT
DTSTART:20260308T070000
END:DAYLIGHT
BEGIN:STANDARD
TZOFFSETFROM:-0400
TZOFFSETTO:-0500
TZNAME:EST
DTSTART:20261101T060000
END:STANDARD
BEGIN:DAYLIGHT
TZOFFSETFROM:-0500
TZOFFSETTO:-0400
TZNAME:EDT
DTSTART:20270314T070000
END:DAYLIGHT
BEGIN:STANDARD
TZOFFSETFROM:-0400
TZOFFSETTO:-0500
TZNAME:EST
DTSTART:20271107T060000
END:STANDARD
END:VTIMEZONE
BEGIN:VEVENT
DTSTART;TZID=America/New_York:20260304T190000
DTEND;TZID=America/New_York:20260408T210000
DTSTAMP:20260425T192744
CREATED:20260222T184449Z
LAST-MODIFIED:20260222T184449Z
UID:2114-1772650800-1775682000@raisethebartrivia.com
SUMMARY:Rudders Public House
DESCRIPTION:
URL:https://raisethebartrivia.com/trivia/rudders-public-house-17/
LOCATION:Rudders Public House\, 70 Wallingford Square\, Kittery\, ME\, 03904\, United States
CATEGORIES:Trivia
END:VEVENT
BEGIN:VEVENT
DTSTART;TZID=America/New_York:20260326T180000
DTEND;TZID=America/New_York:20260326T200000
DTSTAMP:20260425T192744
CREATED:20260321T140515Z
LAST-MODIFIED:20260321T140515Z
UID:2433-1774548000-1774555200@raisethebartrivia.com
SUMMARY:Outlook Tavern
DESCRIPTION:
URL:https://raisethebartrivia.com/trivia/outlook-tavern-19/
LOCATION:Outlook Tavern\, 310 Portland Street\, South Berwick\, ME\, 03908\, United States
CATEGORIES:Trivia
END:VEVENT
BEGIN:VEVENT
DTSTART;TZID=America/New_York:20260326T180000
DTEND;TZID=America/New_York:20260326T200000
DTSTAMP:20260425T192744
CREATED:20260321T140820Z
LAST-MODIFIED:20260321T140820Z
UID:2439-1774548000-1774555200@raisethebartrivia.com
SUMMARY:Earth Eagle Portsmouth
DESCRIPTION:
URL:https://raisethebartrivia.com/trivia/earth-eagle-portsmouth/
LOCATION:Earth Eagle Tavern- Portsmouth\, 175 High Street\, Portsmouth\, NH\, 03801\, United States
CATEGORIES:Trivia
END:VEVENT
BEGIN:VEVENT
DTSTART;TZID=America/New_York:20260326T180000
DTEND;TZID=America/New_York:20260326T200000
DTSTAMP:20260425T192744
CREATED:20260321T140931Z
LAST-MODIFIED:20260321T140931Z
UID:2443-1774548000-1774555200@raisethebartrivia.com
SUMMARY:Lithermans Limited
DESCRIPTION:
URL:https://raisethebartrivia.com/trivia/lithermans-limited-21/
LOCATION:Lithermans Limited\, 126 Hall Street Suite B\, Concord\, NH\, 03301\, United States
CATEGORIES:Trivia
END:VEVENT
BEGIN:VEVENT
DTSTART;TZID=America/New_York:20260326T180000
DTEND;TZID=America/New_York:20260326T200000
DTSTAMP:20260425T192744
CREATED:20260321T141201Z
LAST-MODIFIED:20260321T141201Z
UID:2451-1774548000-1774555200@raisethebartrivia.com
SUMMARY:June Cork Pub
DESCRIPTION:
URL:https://raisethebartrivia.com/trivia/june-cork-pub-18/
LOCATION:June Cork Pub\, 66 Third Street\, Dover\, NH\, 03820\, United States
CATEGORIES:Trivia
END:VEVENT
BEGIN:VEVENT
DTSTART;TZID=America/New_York:20260326T180000
DTEND;TZID=America/New_York:20260326T200000
DTSTAMP:20260425T192744
CREATED:20260321T141347Z
LAST-MODIFIED:20260321T141347Z
UID:2457-1774548000-1774555200@raisethebartrivia.com
SUMMARY:Henniker Brewing
DESCRIPTION:
URL:https://raisethebartrivia.com/trivia/henniker-brewing-19/
LOCATION:Henniker Brewing Company\, 129 Centervale Road\, Henniker\, NH\, 03242\, United States
CATEGORIES:Trivia
END:VEVENT
BEGIN:VEVENT
DTSTART;TZID=America/New_York:20260326T180000
DTEND;TZID=America/New_York:20260326T200000
DTSTAMP:20260425T192744
CREATED:20260321T141516Z
LAST-MODIFIED:20260321T141516Z
UID:2461-1774548000-1774555200@raisethebartrivia.com
SUMMARY:Muddy River Smokehouse
DESCRIPTION:
URL:https://raisethebartrivia.com/trivia/muddy-river-smokehouse-20/
LOCATION:Muddy River Smokehouse\, #70 Route 108\, Newfields\, NH\, 03856\, United States
CATEGORIES:Trivia
END:VEVENT
BEGIN:VEVENT
DTSTART;TZID=America/New_York:20260326T183000
DTEND;TZID=America/New_York:20260326T203000
DTSTAMP:20260425T192744
CREATED:20260321T140854Z
LAST-MODIFIED:20260321T140854Z
UID:2441-1774549800-1774557000@raisethebartrivia.com
SUMMARY:Howling Wolf
DESCRIPTION:
URL:https://raisethebartrivia.com/trivia/howling-wolf-5/
LOCATION:Howling Wolf\, 40 Pleasant Street\, Portsmouth\, NH\, 03801\, United States
CATEGORIES:Trivia
END:VEVENT
BEGIN:VEVENT
DTSTART;TZID=America/New_York:20260326T183000
DTEND;TZID=America/New_York:20260326T203000
DTSTAMP:20260425T192744
CREATED:20260321T141112Z
LAST-MODIFIED:20260321T141112Z
UID:2449-1774549800-1774557000@raisethebartrivia.com
SUMMARY:Highland Pub
DESCRIPTION:
URL:https://raisethebartrivia.com/trivia/highland-pub-20/
LOCATION:Highland Pub\, 75 Ski Hill Drive\, Northfield\, NH\, 03276\, United States
CATEGORIES:Trivia
END:VEVENT
BEGIN:VEVENT
DTSTART;TZID=America/New_York:20260326T183000
DTEND;TZID=America/New_York:20260326T203000
DTSTAMP:20260425T192744
CREATED:20260321T141241Z
LAST-MODIFIED:20260321T141241Z
UID:2453-1774549800-1774557000@raisethebartrivia.com
SUMMARY:Overboard Pub
DESCRIPTION:
URL:https://raisethebartrivia.com/trivia/overboard-pub-21/
LOCATION:Overboard Pub & Grill\, 186 Ocean Blvd\, Seabrook\, NH\, 03874\, United States
CATEGORIES:Trivia
END:VEVENT
BEGIN:VEVENT
DTSTART;TZID=America/New_York:20260326T190000
DTEND;TZID=America/New_York:20260326T210000
DTSTAMP:20260425T192744
CREATED:20260321T140549Z
LAST-MODIFIED:20260321T140549Z
UID:2435-1774551600-1774558800@raisethebartrivia.com
SUMMARY:Duffy's Tavern
DESCRIPTION:
URL:https://raisethebartrivia.com/trivia/duffys-tavern-19/
LOCATION:Duffy’s Tavern\, 4 Main Street\, Kennebunk\, ME\, 04043\, United States
CATEGORIES:Trivia
END:VEVENT
BEGIN:VEVENT
DTSTART;TZID=America/New_York:20260326T190000
DTEND;TZID=America/New_York:20260326T210000
DTSTAMP:20260425T192744
CREATED:20260321T140620Z
LAST-MODIFIED:20260321T140620Z
UID:2437-1774551600-1774558800@raisethebartrivia.com
SUMMARY:The Grog
DESCRIPTION:
URL:https://raisethebartrivia.com/trivia/the-grog-21/
LOCATION:The Grog\, 13 Middle Street\, Newburyport\, MA\, 01950\, United States
CATEGORIES:Trivia
END:VEVENT
BEGIN:VEVENT
DTSTART;TZID=America/New_York:20260326T190000
DTEND;TZID=America/New_York:20260326T210000
DTSTAMP:20260425T192744
CREATED:20260321T141004Z
LAST-MODIFIED:20260321T141004Z
UID:2445-1774551600-1774558800@raisethebartrivia.com
SUMMARY:The Loft
DESCRIPTION:
URL:https://raisethebartrivia.com/trivia/the-loft-19/
LOCATION:The Loft / Strafford Farms\, 58 New Rochester Road\, Dover\, NH\, 03820\, United States
CATEGORIES:Trivia
END:VEVENT
BEGIN:VEVENT
DTSTART;TZID=America/New_York:20260326T190000
DTEND;TZID=America/New_York:20260326T210000
DTSTAMP:20260425T192744
CREATED:20260321T141038Z
LAST-MODIFIED:20260321T141038Z
UID:2447-1774551600-1774558800@raisethebartrivia.com
SUMMARY:The Big Bean
DESCRIPTION:
URL:https://raisethebartrivia.com/trivia/the-big-bean-18/
LOCATION:The Big Bean\, 163 Water Street\, Exeter\, NH\, 03833\, United States
CATEGORIES:Trivia
END:VEVENT
BEGIN:VEVENT
DTSTART;TZID=America/New_York:20260326T190000
DTEND;TZID=America/New_York:20260326T210000
DTSTAMP:20260425T192744
CREATED:20260321T141314Z
LAST-MODIFIED:20260321T141314Z
UID:2455-1774551600-1774558800@raisethebartrivia.com
SUMMARY:Hart's Turkey Farm
DESCRIPTION:
URL:https://raisethebartrivia.com/trivia/harts-turkey-farm-21/
LOCATION:Hart’s Turkey Farm\, 233 Daniel Webster Highway\, Meredith\, NH\, 03253\, United States
CATEGORIES:Trivia
END:VEVENT
BEGIN:VEVENT
DTSTART;TZID=America/New_York:20260326T190000
DTEND;TZID=America/New_York:20260326T210000
DTSTAMP:20260425T192744
CREATED:20260321T141443Z
LAST-MODIFIED:20260321T141443Z
UID:2459-1774551600-1774558800@raisethebartrivia.com
SUMMARY:Derryfield Restaurant
DESCRIPTION:
URL:https://raisethebartrivia.com/trivia/derryfield-restaurant-21/
LOCATION:Derryfield Restaurant\, 625 Mammoth Road\, Manchester\, NH\, 03104\, United States
CATEGORIES:Trivia
END:VEVENT
BEGIN:VEVENT
DTSTART;TZID=America/New_York:20260326T190000
DTEND;TZID=America/New_York:20260326T210000
DTSTAMP:20260425T192744
CREATED:20260321T141556Z
LAST-MODIFIED:20260321T141556Z
UID:2463-1774551600-1774558800@raisethebartrivia.com
SUMMARY:Tour Golf
DESCRIPTION:
URL:https://raisethebartrivia.com/trivia/tour-golf-19/
LOCATION:Tour Golf & Grill\, 581 Lafayette Road\, Portsmouth\, NH\, 03801\, United States
CATEGORIES:Trivia
END:VEVENT
END:VCALENDAR