BEGIN:VCALENDAR
VERSION:2.0
PRODID:-//Raise The Bar Trivia - ECPv6.15.20//NONSGML v1.0//EN
CALSCALE:GREGORIAN
METHOD:PUBLISH
X-ORIGINAL-URL:https://raisethebartrivia.com
X-WR-CALDESC:Events for Raise The Bar Trivia
REFRESH-INTERVAL;VALUE=DURATION:PT1H
X-Robots-Tag:noindex
X-PUBLISHED-TTL:PT1H
BEGIN:VTIMEZONE
TZID:America/New_York
BEGIN:DAYLIGHT
TZOFFSETFROM:-0500
TZOFFSETTO:-0400
TZNAME:EDT
DTSTART:20250309T070000
END:DAYLIGHT
BEGIN:STANDARD
TZOFFSETFROM:-0400
TZOFFSETTO:-0500
TZNAME:EST
DTSTART:20251102T060000
END:STANDARD
BEGIN:DAYLIGHT
TZOFFSETFROM:-0500
TZOFFSETTO:-0400
TZNAME:EDT
DTSTART:20260308T070000
END:DAYLIGHT
BEGIN:STANDARD
TZOFFSETFROM:-0400
TZOFFSETTO:-0500
TZNAME:EST
DTSTART:20261101T060000
END:STANDARD
BEGIN:DAYLIGHT
TZOFFSETFROM:-0500
TZOFFSETTO:-0400
TZNAME:EDT
DTSTART:20270314T070000
END:DAYLIGHT
BEGIN:STANDARD
TZOFFSETFROM:-0400
TZOFFSETTO:-0500
TZNAME:EST
DTSTART:20271107T060000
END:STANDARD
END:VTIMEZONE
BEGIN:VEVENT
DTSTART;TZID=America/New_York:20260304T190000
DTEND;TZID=America/New_York:20260408T210000
DTSTAMP:20260425T193406
CREATED:20260222T184449Z
LAST-MODIFIED:20260222T184449Z
UID:2114-1772650800-1775682000@raisethebartrivia.com
SUMMARY:Rudders Public House
DESCRIPTION:
URL:https://raisethebartrivia.com/trivia/rudders-public-house-17/
LOCATION:Rudders Public House\, 70 Wallingford Square\, Kittery\, ME\, 03904\, United States
CATEGORIES:Trivia
END:VEVENT
BEGIN:VEVENT
DTSTART;TZID=America/New_York:20260325T180000
DTEND;TZID=America/New_York:20260325T200000
DTSTAMP:20260425T193406
CREATED:20260321T135525Z
LAST-MODIFIED:20260321T135525Z
UID:2403-1774461600-1774468800@raisethebartrivia.com
SUMMARY:Community Oven
DESCRIPTION:
URL:https://raisethebartrivia.com/trivia/community-oven-22/
LOCATION:Community Oven\, 845 Lafayette Road\, Hampton\, NH\, 03842\, United States
CATEGORIES:Trivia
END:VEVENT
BEGIN:VEVENT
DTSTART;TZID=America/New_York:20260325T180000
DTEND;TZID=America/New_York:20260325T200000
DTSTAMP:20260425T193406
CREATED:20260321T135555Z
LAST-MODIFIED:20260321T135555Z
UID:2405-1774461600-1774468800@raisethebartrivia.com
SUMMARY:Flannel Tavern
DESCRIPTION:
URL:https://raisethebartrivia.com/trivia/flannel-tavern-21/
LOCATION:Flannel Tavern\, 345 Suncook Valley Road\, Chichester\, NH\, 03258\, United States
CATEGORIES:Trivia
END:VEVENT
BEGIN:VEVENT
DTSTART;TZID=America/New_York:20260325T180000
DTEND;TZID=America/New_York:20260325T200000
DTSTAMP:20260425T193406
CREATED:20260321T135640Z
LAST-MODIFIED:20260321T135640Z
UID:2407-1774461600-1774468800@raisethebartrivia.com
SUMMARY:East Derry Tavern
DESCRIPTION:
URL:https://raisethebartrivia.com/trivia/east-derry-tavern-20/
LOCATION:East Derry Tavern\, 50 E Derry Road\, Derry\, NH\, 03038\, United States
CATEGORIES:Trivia
END:VEVENT
BEGIN:VEVENT
DTSTART;TZID=America/New_York:20260325T180000
DTEND;TZID=America/New_York:20260325T200000
DTSTAMP:20260425T193406
CREATED:20260321T135712Z
LAST-MODIFIED:20260321T135712Z
UID:2409-1774461600-1774468800@raisethebartrivia.com
SUMMARY:Otto Pizza
DESCRIPTION:
URL:https://raisethebartrivia.com/trivia/otto-pizza-43/
LOCATION:OTTO Pizza – Exeter\, 33 Water Street\, Exeter\, NH\, 03833\, United States
CATEGORIES:Trivia
END:VEVENT
BEGIN:VEVENT
DTSTART;TZID=America/New_York:20260325T180000
DTEND;TZID=America/New_York:20260325T200000
DTSTAMP:20260425T193406
CREATED:20260321T135901Z
LAST-MODIFIED:20260321T135901Z
UID:2415-1774461600-1774468800@raisethebartrivia.com
SUMMARY:Earth Eagle Brewing
DESCRIPTION:
URL:https://raisethebartrivia.com/trivia/earth-eagle-brewing-18/
LOCATION:Earth Eagle North\, 350 Rt. 108 Suite 208\, Somersworth\, NH\, 03878\, United States
CATEGORIES:Trivia
END:VEVENT
BEGIN:VEVENT
DTSTART;TZID=America/New_York:20260325T180000
DTEND;TZID=America/New_York:20260325T200000
DTSTAMP:20260425T193406
CREATED:20260321T140022Z
LAST-MODIFIED:20260321T140022Z
UID:2417-1774461600-1774468800@raisethebartrivia.com
SUMMARY:Patrick's Pub
DESCRIPTION:
URL:https://raisethebartrivia.com/trivia/patricks-pub-20/
LOCATION:Patrick’s Irish Pub\, 18 Weirs Road\, Gilford\, NH\, 03249\, United States
CATEGORIES:Trivia
END:VEVENT
BEGIN:VEVENT
DTSTART;TZID=America/New_York:20260325T180000
DTEND;TZID=America/New_York:20260325T200000
DTSTAMP:20260425T193406
CREATED:20260321T140200Z
LAST-MODIFIED:20260321T140200Z
UID:2421-1774461600-1774468800@raisethebartrivia.com
SUMMARY:Stone Church
DESCRIPTION:
URL:https://raisethebartrivia.com/trivia/stone-church-4/
LOCATION:Stone Church\, 5 Granite Street\, Newmarket\, NH\, 03857\, United States
CATEGORIES:Trivia
END:VEVENT
BEGIN:VEVENT
DTSTART;TZID=America/New_York:20260325T180000
DTEND;TZID=America/New_York:20260325T200000
DTSTAMP:20260425T193406
CREATED:20260321T140257Z
LAST-MODIFIED:20260321T140257Z
UID:2425-1774461600-1774468800@raisethebartrivia.com
SUMMARY:The Porthole
DESCRIPTION:
URL:https://raisethebartrivia.com/trivia/the-porthole-5/
LOCATION:The Porthole\, 20 Custom House Wharf\, Portland\, ME\, 04101\, United States
CATEGORIES:Trivia
END:VEVENT
BEGIN:VEVENT
DTSTART;TZID=America/New_York:20260325T180000
DTEND;TZID=America/New_York:20260325T200000
DTSTAMP:20260425T193406
CREATED:20260321T140331Z
LAST-MODIFIED:20260321T140331Z
UID:2427-1774461600-1774468800@raisethebartrivia.com
SUMMARY:Bissell Brothers
DESCRIPTION:
URL:https://raisethebartrivia.com/trivia/bissell-brothers-21/
LOCATION:Bissell Brothers\, 38 Resurgam Place\, Portland\, ME\, 04102\, United States
CATEGORIES:Trivia
END:VEVENT
BEGIN:VEVENT
DTSTART;TZID=America/New_York:20260325T190000
DTEND;TZID=America/New_York:20260325T210000
DTSTAMP:20260425T193406
CREATED:20260321T135419Z
LAST-MODIFIED:20260321T135419Z
UID:2399-1774465200-1774472400@raisethebartrivia.com
SUMMARY:Thirsty Moose
DESCRIPTION:
URL:https://raisethebartrivia.com/trivia/thirsty-moose-89/
LOCATION:Thirsty Moose – Portsmouth\, 21 Congress Street\, Portsmouth\, NH\, 03801\, United States
CATEGORIES:Trivia
END:VEVENT
BEGIN:VEVENT
DTSTART;TZID=America/New_York:20260325T190000
DTEND;TZID=America/New_York:20260325T210000
DTSTAMP:20260425T193406
CREATED:20260321T135455Z
LAST-MODIFIED:20260321T135455Z
UID:2401-1774465200-1774472400@raisethebartrivia.com
SUMMARY:Thirsty Moose
DESCRIPTION:
URL:https://raisethebartrivia.com/trivia/thirsty-moose-90/
LOCATION:Thirsty Moose – Manchester\, 795 Elm Street\, Manchester\, NH\, 03101\, United States
CATEGORIES:Trivia
END:VEVENT
BEGIN:VEVENT
DTSTART;TZID=America/New_York:20260325T190000
DTEND;TZID=America/New_York:20260325T210000
DTSTAMP:20260425T193406
CREATED:20260321T135747Z
LAST-MODIFIED:20260321T135747Z
UID:2411-1774465200-1774472400@raisethebartrivia.com
SUMMARY:Otto Pizza
DESCRIPTION:
URL:https://raisethebartrivia.com/trivia/otto-pizza-44/
LOCATION:OTTO Dover\, 431 Central Avenue\, Dover\, NH\, 03820\, United States
CATEGORIES:Trivia
END:VEVENT
BEGIN:VEVENT
DTSTART;TZID=America/New_York:20260325T190000
DTEND;TZID=America/New_York:20260325T210000
DTSTAMP:20260425T193406
CREATED:20260321T135826Z
LAST-MODIFIED:20260321T135826Z
UID:2413-1774465200-1774472400@raisethebartrivia.com
SUMMARY:Otto Pizza
DESCRIPTION:
URL:https://raisethebartrivia.com/trivia/otto-pizza-45/
LOCATION:OTTO Pizza – Portsmouth\, 110 Brewery Lane\, Portsmouth\, 03801\, United States
CATEGORIES:Trivia
END:VEVENT
BEGIN:VEVENT
DTSTART;TZID=America/New_York:20260325T190000
DTEND;TZID=America/New_York:20260325T210000
DTSTAMP:20260425T193406
CREATED:20260321T140129Z
LAST-MODIFIED:20260321T140129Z
UID:2419-1774465200-1774472400@raisethebartrivia.com
SUMMARY:Gate City
DESCRIPTION:
URL:https://raisethebartrivia.com/trivia/gate-city-16/
LOCATION:Gate City\, 55 Northeastern Blvd.\, Nashua\, NH\, 03062\, United States
CATEGORIES:Trivia
END:VEVENT
BEGIN:VEVENT
DTSTART;TZID=America/New_York:20260325T190000
DTEND;TZID=America/New_York:20260325T210000
DTSTAMP:20260425T193406
CREATED:20260321T140227Z
LAST-MODIFIED:20260321T140227Z
UID:2423-1774465200-1774472400@raisethebartrivia.com
SUMMARY:Cheers
DESCRIPTION:
URL:https://raisethebartrivia.com/trivia/cheers-20/
LOCATION:Cheers\, 17 Depot Street\, Concord\, NH\, 03301\, United States
CATEGORIES:Trivia
END:VEVENT
BEGIN:VEVENT
DTSTART;TZID=America/New_York:20260325T190000
DTEND;TZID=America/New_York:20260325T210000
DTSTAMP:20260425T193406
CREATED:20260321T140405Z
LAST-MODIFIED:20260321T140405Z
UID:2429-1774465200-1774472400@raisethebartrivia.com
SUMMARY:Rudders Public House
DESCRIPTION:
URL:https://raisethebartrivia.com/trivia/rudders-public-house-20/
LOCATION:Rudders Public House\, 70 Wallingford Square\, Kittery\, ME\, 03904\, United States
CATEGORIES:Trivia
END:VEVENT
BEGIN:VEVENT
DTSTART;TZID=America/New_York:20260325T190000
DTEND;TZID=America/New_York:20260325T210000
DTSTAMP:20260425T193406
CREATED:20260321T140439Z
LAST-MODIFIED:20260321T140439Z
UID:2431-1774465200-1774472400@raisethebartrivia.com
SUMMARY:Sea Dog Brewing
DESCRIPTION:
URL:https://raisethebartrivia.com/trivia/sea-dog-brewing-41/
LOCATION:Sea Dog Brewing – North Conway\, 1976 White Mountain HWY\, North Conway\, NH\, 03860\, United States
CATEGORIES:Trivia
END:VEVENT
END:VCALENDAR