BEGIN:VCALENDAR
VERSION:2.0
PRODID:-//Raise The Bar Trivia - ECPv6.15.20//NONSGML v1.0//EN
CALSCALE:GREGORIAN
METHOD:PUBLISH
X-ORIGINAL-URL:https://raisethebartrivia.com
X-WR-CALDESC:Events for Raise The Bar Trivia
REFRESH-INTERVAL;VALUE=DURATION:PT1H
X-Robots-Tag:noindex
X-PUBLISHED-TTL:PT1H
BEGIN:VTIMEZONE
TZID:America/New_York
BEGIN:DAYLIGHT
TZOFFSETFROM:-0500
TZOFFSETTO:-0400
TZNAME:EDT
DTSTART:20250309T070000
END:DAYLIGHT
BEGIN:STANDARD
TZOFFSETFROM:-0400
TZOFFSETTO:-0500
TZNAME:EST
DTSTART:20251102T060000
END:STANDARD
BEGIN:DAYLIGHT
TZOFFSETFROM:-0500
TZOFFSETTO:-0400
TZNAME:EDT
DTSTART:20260308T070000
END:DAYLIGHT
BEGIN:STANDARD
TZOFFSETFROM:-0400
TZOFFSETTO:-0500
TZNAME:EST
DTSTART:20261101T060000
END:STANDARD
BEGIN:DAYLIGHT
TZOFFSETFROM:-0500
TZOFFSETTO:-0400
TZNAME:EDT
DTSTART:20270314T070000
END:DAYLIGHT
BEGIN:STANDARD
TZOFFSETFROM:-0400
TZOFFSETTO:-0500
TZNAME:EST
DTSTART:20271107T060000
END:STANDARD
END:VTIMEZONE
BEGIN:VEVENT
DTSTART;TZID=America/New_York:20260304T190000
DTEND;TZID=America/New_York:20260408T210000
DTSTAMP:20260425T193311
CREATED:20260222T184449Z
LAST-MODIFIED:20260222T184449Z
UID:2114-1772650800-1775682000@raisethebartrivia.com
SUMMARY:Rudders Public House
DESCRIPTION:
URL:https://raisethebartrivia.com/trivia/rudders-public-house-17/
LOCATION:Rudders Public House\, 70 Wallingford Square\, Kittery\, ME\, 03904\, United States
CATEGORIES:Trivia
END:VEVENT
BEGIN:VEVENT
DTSTART;TZID=America/New_York:20260317T180000
DTEND;TZID=America/New_York:20260317T200000
DTSTAMP:20260425T193311
CREATED:20260305T152801Z
LAST-MODIFIED:20260305T152801Z
UID:2277-1773770400-1773777600@raisethebartrivia.com
SUMMARY:Sea Dog Brewing
DESCRIPTION:
URL:https://raisethebartrivia.com/trivia/sea-dog-brewing-38/
LOCATION:Sea Dog Brewing- Exeter\, 5 Water Street\, Exeter\, NH\, 03833\, United States
CATEGORIES:Trivia
END:VEVENT
BEGIN:VEVENT
DTSTART;TZID=America/New_York:20260317T183000
DTEND;TZID=America/New_York:20260317T203000
DTSTAMP:20260425T193311
CREATED:20260305T152723Z
LAST-MODIFIED:20260305T152723Z
UID:2275-1773772200-1773779400@raisethebartrivia.com
SUMMARY:Axe & Ale
DESCRIPTION:
URL:https://raisethebartrivia.com/trivia/axe-ale-21/
LOCATION:Axe & Ale\, 9 Old Lake Shore Road Unit 2\, Gilford\, NH\, 03801\, United States
CATEGORIES:Trivia
END:VEVENT
BEGIN:VEVENT
DTSTART;TZID=America/New_York:20260317T183000
DTEND;TZID=America/New_York:20260317T203000
DTSTAMP:20260425T193311
CREATED:20260305T152913Z
LAST-MODIFIED:20260305T152913Z
UID:2282-1773772200-1773779400@raisethebartrivia.com
SUMMARY:Pepper's Seafood
DESCRIPTION:
URL:https://raisethebartrivia.com/trivia/peppers-seafood-22/
LOCATION:Pepper’s Seafood\, 243 Main Street\, Ogunquit\, ME\, 03907\, United States
CATEGORIES:Trivia
END:VEVENT
BEGIN:VEVENT
DTSTART;TZID=America/New_York:20260317T190000
DTEND;TZID=America/New_York:20260317T200000
DTSTAMP:20260425T193311
CREATED:20260305T152525Z
LAST-MODIFIED:20260305T152525Z
UID:2269-1773774000-1773777600@raisethebartrivia.com
SUMMARY:Thirsty Moose
DESCRIPTION:
URL:https://raisethebartrivia.com/trivia/thirsty-moose-80/
LOCATION:Thirsty Moose – Exeter\, 72 Portsmouth Avenue\, Exeter\, NH\, 03833\, United States
CATEGORIES:Trivia
END:VEVENT
BEGIN:VEVENT
DTSTART;TZID=America/New_York:20260317T190000
DTEND;TZID=America/New_York:20260317T210000
DTSTAMP:20260425T193311
CREATED:20260305T152646Z
LAST-MODIFIED:20260305T152646Z
UID:2273-1773774000-1773781200@raisethebartrivia.com
SUMMARY:Thirsty Moose
DESCRIPTION:
URL:https://raisethebartrivia.com/trivia/thirsty-moose-82/
LOCATION:Thirsty Moose – Dover\, 83 Washigton Street\, Dover\, NH\, 03820\, United States
CATEGORIES:Trivia
END:VEVENT
BEGIN:VEVENT
DTSTART;TZID=America/New_York:20260317T190000
DTEND;TZID=America/New_York:20260317T210000
DTSTAMP:20260425T193311
CREATED:20260305T152833Z
LAST-MODIFIED:20260305T152833Z
UID:2279-1773774000-1773781200@raisethebartrivia.com
SUMMARY:Mill Towne Tavern
DESCRIPTION:
URL:https://raisethebartrivia.com/trivia/mill-towne-tavern-21/
LOCATION:Mill Towne Tavern\, 898 Main Street\, Sanford\, ME\, 04073\, United States
CATEGORIES:Trivia
END:VEVENT
BEGIN:VEVENT
DTSTART;TZID=America/New_York:20260317T190000
DTEND;TZID=America/New_York:20260317T210000
DTSTAMP:20260425T193311
CREATED:20260305T152946Z
LAST-MODIFIED:20260305T152946Z
UID:2284-1773774000-1773781200@raisethebartrivia.com
SUMMARY:Pat's Pizza
DESCRIPTION:
URL:https://raisethebartrivia.com/trivia/pats-pizza-22/
LOCATION:Pat’s Pizza\, 209 US Rt. 1\, Scarborough\, ME\, 04074\, United States
CATEGORIES:Trivia
END:VEVENT
BEGIN:VEVENT
DTSTART;TZID=America/New_York:20260317T201500
DTEND;TZID=America/New_York:20260317T211500
DTSTAMP:20260425T193311
CREATED:20260305T152608Z
LAST-MODIFIED:20260305T152608Z
UID:2271-1773778500-1773782100@raisethebartrivia.com
SUMMARY:Thirsty Moose
DESCRIPTION:
URL:https://raisethebartrivia.com/trivia/thirsty-moose-81/
LOCATION:Thirsty Moose – Exeter\, 72 Portsmouth Avenue\, Exeter\, NH\, 03833\, United States
CATEGORIES:Trivia
END:VEVENT
END:VCALENDAR