BEGIN:VCALENDAR
VERSION:2.0
PRODID:-//Raise The Bar Trivia - ECPv6.15.20//NONSGML v1.0//EN
CALSCALE:GREGORIAN
METHOD:PUBLISH
X-ORIGINAL-URL:https://raisethebartrivia.com
X-WR-CALDESC:Events for Raise The Bar Trivia
REFRESH-INTERVAL;VALUE=DURATION:PT1H
X-Robots-Tag:noindex
X-PUBLISHED-TTL:PT1H
BEGIN:VTIMEZONE
TZID:America/New_York
BEGIN:DAYLIGHT
TZOFFSETFROM:-0500
TZOFFSETTO:-0400
TZNAME:EDT
DTSTART:20250309T070000
END:DAYLIGHT
BEGIN:STANDARD
TZOFFSETFROM:-0400
TZOFFSETTO:-0500
TZNAME:EST
DTSTART:20251102T060000
END:STANDARD
BEGIN:DAYLIGHT
TZOFFSETFROM:-0500
TZOFFSETTO:-0400
TZNAME:EDT
DTSTART:20260308T070000
END:DAYLIGHT
BEGIN:STANDARD
TZOFFSETFROM:-0400
TZOFFSETTO:-0500
TZNAME:EST
DTSTART:20261101T060000
END:STANDARD
BEGIN:DAYLIGHT
TZOFFSETFROM:-0500
TZOFFSETTO:-0400
TZNAME:EDT
DTSTART:20270314T070000
END:DAYLIGHT
BEGIN:STANDARD
TZOFFSETFROM:-0400
TZOFFSETTO:-0500
TZNAME:EST
DTSTART:20271107T060000
END:STANDARD
END:VTIMEZONE
BEGIN:VEVENT
DTSTART;TZID=America/New_York:20260304T190000
DTEND;TZID=America/New_York:20260408T210000
DTSTAMP:20260425T193405
CREATED:20260222T184449Z
LAST-MODIFIED:20260222T184449Z
UID:2114-1772650800-1775682000@raisethebartrivia.com
SUMMARY:Rudders Public House
DESCRIPTION:
URL:https://raisethebartrivia.com/trivia/rudders-public-house-17/
LOCATION:Rudders Public House\, 70 Wallingford Square\, Kittery\, ME\, 03904\, United States
CATEGORIES:Trivia
END:VEVENT
BEGIN:VEVENT
DTSTART;TZID=America/New_York:20260312T180000
DTEND;TZID=America/New_York:20260312T200000
DTSTAMP:20260425T193405
CREATED:20260304T164812Z
LAST-MODIFIED:20260304T164812Z
UID:2221-1773338400-1773345600@raisethebartrivia.com
SUMMARY:Outlook Tavern
DESCRIPTION:
URL:https://raisethebartrivia.com/trivia/outlook-tavern-17/
LOCATION:Outlook Tavern\, 310 Portland Street\, South Berwick\, ME\, 03908\, United States
CATEGORIES:Trivia
END:VEVENT
BEGIN:VEVENT
DTSTART;TZID=America/New_York:20260312T180000
DTEND;TZID=America/New_York:20260312T200000
DTSTAMP:20260425T193405
CREATED:20260304T165005Z
LAST-MODIFIED:20260304T165005Z
UID:2227-1773338400-1773345600@raisethebartrivia.com
SUMMARY:Earth Eagle
DESCRIPTION:
URL:https://raisethebartrivia.com/trivia/earth-eagle-3/
LOCATION:Earth Eagle Tavern- Portsmouth\, 175 High Street\, Portsmouth\, NH\, 03801\, United States
CATEGORIES:Trivia
END:VEVENT
BEGIN:VEVENT
DTSTART;TZID=America/New_York:20260312T180000
DTEND;TZID=America/New_York:20260312T200000
DTSTAMP:20260425T193405
CREATED:20260304T165112Z
LAST-MODIFIED:20260304T165112Z
UID:2231-1773338400-1773345600@raisethebartrivia.com
SUMMARY:Lithermans Limited
DESCRIPTION:
URL:https://raisethebartrivia.com/trivia/lithermans-limited-19/
LOCATION:Lithermans Limited\, 126 Hall Street Suite B\, Concord\, NH\, 03301\, United States
CATEGORIES:Trivia
END:VEVENT
BEGIN:VEVENT
DTSTART;TZID=America/New_York:20260312T180000
DTEND;TZID=America/New_York:20260312T200000
DTSTAMP:20260425T193405
CREATED:20260304T165329Z
LAST-MODIFIED:20260304T165329Z
UID:2239-1773338400-1773345600@raisethebartrivia.com
SUMMARY:June Cork Pub
DESCRIPTION:
URL:https://raisethebartrivia.com/trivia/june-cork-pub-16/
LOCATION:June Cork Pub\, 66 Third Street\, Dover\, NH\, 03820\, United States
CATEGORIES:Trivia
END:VEVENT
BEGIN:VEVENT
DTSTART;TZID=America/New_York:20260312T180000
DTEND;TZID=America/New_York:20260312T200000
DTSTAMP:20260425T193405
CREATED:20260304T165544Z
LAST-MODIFIED:20260304T165544Z
UID:2245-1773338400-1773345600@raisethebartrivia.com
SUMMARY:Henniker Brewing
DESCRIPTION:
URL:https://raisethebartrivia.com/trivia/henniker-brewing-17/
LOCATION:Henniker Brewing Company\, 129 Centervale Road\, Henniker\, NH\, 03242\, United States
CATEGORIES:Trivia
END:VEVENT
BEGIN:VEVENT
DTSTART;TZID=America/New_York:20260312T180000
DTEND;TZID=America/New_York:20260312T200000
DTSTAMP:20260425T193405
CREATED:20260304T165704Z
LAST-MODIFIED:20260304T165704Z
UID:2249-1773338400-1773345600@raisethebartrivia.com
SUMMARY:Muddy River Smokehouse
DESCRIPTION:
URL:https://raisethebartrivia.com/trivia/muddy-river-smokehouse-18/
LOCATION:Muddy River Smokehouse\, #70 Route 108\, Newfields\, NH\, 03856\, United States
CATEGORIES:Trivia
END:VEVENT
BEGIN:VEVENT
DTSTART;TZID=America/New_York:20260312T183000
DTEND;TZID=America/New_York:20260312T203000
DTSTAMP:20260425T193405
CREATED:20260304T165039Z
LAST-MODIFIED:20260304T165039Z
UID:2229-1773340200-1773347400@raisethebartrivia.com
SUMMARY:Howling Wolf
DESCRIPTION:
URL:https://raisethebartrivia.com/trivia/howling-wolf-3/
LOCATION:Howling Wolf\, 40 Pleasant Street\, Portsmouth\, NH\, 03801\, United States
CATEGORIES:Trivia
END:VEVENT
BEGIN:VEVENT
DTSTART;TZID=America/New_York:20260312T183000
DTEND;TZID=America/New_York:20260312T203000
DTSTAMP:20260425T193406
CREATED:20260304T165257Z
LAST-MODIFIED:20260304T165257Z
UID:2237-1773340200-1773347400@raisethebartrivia.com
SUMMARY:Highland Pub
DESCRIPTION:
URL:https://raisethebartrivia.com/trivia/highland-pub-18/
LOCATION:Highland Pub\, 75 Ski Hill Drive\, Northfield\, NH\, 03276\, United States
CATEGORIES:Trivia
END:VEVENT
BEGIN:VEVENT
DTSTART;TZID=America/New_York:20260312T183000
DTEND;TZID=America/New_York:20260312T203000
DTSTAMP:20260425T193406
CREATED:20260304T165408Z
LAST-MODIFIED:20260304T165408Z
UID:2241-1773340200-1773347400@raisethebartrivia.com
SUMMARY:Overboard Pub
DESCRIPTION:
URL:https://raisethebartrivia.com/trivia/overboard-pub-19/
LOCATION:Overboard Pub & Grill\, 186 Ocean Blvd\, Seabrook\, NH\, 03874\, United States
CATEGORIES:Trivia
END:VEVENT
BEGIN:VEVENT
DTSTART;TZID=America/New_York:20260312T190000
DTEND;TZID=America/New_York:20260312T210000
DTSTAMP:20260425T193406
CREATED:20260304T164857Z
LAST-MODIFIED:20260304T164857Z
UID:2223-1773342000-1773349200@raisethebartrivia.com
SUMMARY:Duffy's Tavern
DESCRIPTION:
URL:https://raisethebartrivia.com/trivia/duffys-tavern-17/
LOCATION:Duffy’s Tavern\, 4 Main Street\, Kennebunk\, ME\, 04043\, United States
CATEGORIES:Trivia
END:VEVENT
BEGIN:VEVENT
DTSTART;TZID=America/New_York:20260312T190000
DTEND;TZID=America/New_York:20260312T210000
DTSTAMP:20260425T193406
CREATED:20260304T164929Z
LAST-MODIFIED:20260304T164929Z
UID:2225-1773342000-1773349200@raisethebartrivia.com
SUMMARY:The Grog
DESCRIPTION:
URL:https://raisethebartrivia.com/trivia/the-grog-19/
LOCATION:The Grog\, 13 Middle Street\, Newburyport\, MA\, 01950\, United States
CATEGORIES:Trivia
END:VEVENT
BEGIN:VEVENT
DTSTART;TZID=America/New_York:20260312T190000
DTEND;TZID=America/New_York:20260312T210000
DTSTAMP:20260425T193406
CREATED:20260304T165145Z
LAST-MODIFIED:20260304T165145Z
UID:2233-1773342000-1773349200@raisethebartrivia.com
SUMMARY:The Loft
DESCRIPTION:
URL:https://raisethebartrivia.com/trivia/the-loft-17/
LOCATION:The Loft / Strafford Farms\, 58 New Rochester Road\, Dover\, NH\, 03820\, United States
CATEGORIES:Trivia
END:VEVENT
BEGIN:VEVENT
DTSTART;TZID=America/New_York:20260312T190000
DTEND;TZID=America/New_York:20260312T210000
DTSTAMP:20260425T193406
CREATED:20260304T165216Z
LAST-MODIFIED:20260304T165216Z
UID:2235-1773342000-1773349200@raisethebartrivia.com
SUMMARY:The Big Bean
DESCRIPTION:
URL:https://raisethebartrivia.com/trivia/the-big-bean-16/
LOCATION:The Big Bean\, 163 Water Street\, Exeter\, NH\, 03833\, United States
CATEGORIES:Trivia
END:VEVENT
BEGIN:VEVENT
DTSTART;TZID=America/New_York:20260312T190000
DTEND;TZID=America/New_York:20260312T210000
DTSTAMP:20260425T193406
CREATED:20260304T165443Z
LAST-MODIFIED:20260304T165443Z
UID:2243-1773342000-1773349200@raisethebartrivia.com
SUMMARY:Hart's Turkey Farm
DESCRIPTION:
URL:https://raisethebartrivia.com/trivia/harts-turkey-farm-19/
LOCATION:Hart’s Turkey Farm\, 233 Daniel Webster Highway\, Meredith\, NH\, 03253\, United States
CATEGORIES:Trivia
END:VEVENT
BEGIN:VEVENT
DTSTART;TZID=America/New_York:20260312T190000
DTEND;TZID=America/New_York:20260312T210000
DTSTAMP:20260425T193406
CREATED:20260304T165629Z
LAST-MODIFIED:20260304T165630Z
UID:2247-1773342000-1773349200@raisethebartrivia.com
SUMMARY:Derryfield Restaurant
DESCRIPTION:
URL:https://raisethebartrivia.com/trivia/derryfield-restaurant-19/
LOCATION:Derryfield Restaurant\, 625 Mammoth Road\, Manchester\, NH\, 03104\, United States
CATEGORIES:Trivia
END:VEVENT
BEGIN:VEVENT
DTSTART;TZID=America/New_York:20260312T190000
DTEND;TZID=America/New_York:20260312T210000
DTSTAMP:20260425T193406
CREATED:20260304T165748Z
LAST-MODIFIED:20260304T165748Z
UID:2251-1773342000-1773349200@raisethebartrivia.com
SUMMARY:Tour Golf
DESCRIPTION:
URL:https://raisethebartrivia.com/trivia/tour-golf-17/
LOCATION:Tour Golf & Grill\, 581 Lafayette Road\, Portsmouth\, NH\, 03801\, United States
CATEGORIES:Trivia
END:VEVENT
END:VCALENDAR