BEGIN:VCALENDAR
VERSION:2.0
PRODID:-//Raise The Bar Trivia - ECPv6.15.20//NONSGML v1.0//EN
CALSCALE:GREGORIAN
METHOD:PUBLISH
X-ORIGINAL-URL:https://raisethebartrivia.com
X-WR-CALDESC:Events for Raise The Bar Trivia
REFRESH-INTERVAL;VALUE=DURATION:PT1H
X-Robots-Tag:noindex
X-PUBLISHED-TTL:PT1H
BEGIN:VTIMEZONE
TZID:America/New_York
BEGIN:DAYLIGHT
TZOFFSETFROM:-0500
TZOFFSETTO:-0400
TZNAME:EDT
DTSTART:20250309T070000
END:DAYLIGHT
BEGIN:STANDARD
TZOFFSETFROM:-0400
TZOFFSETTO:-0500
TZNAME:EST
DTSTART:20251102T060000
END:STANDARD
BEGIN:DAYLIGHT
TZOFFSETFROM:-0500
TZOFFSETTO:-0400
TZNAME:EDT
DTSTART:20260308T070000
END:DAYLIGHT
BEGIN:STANDARD
TZOFFSETFROM:-0400
TZOFFSETTO:-0500
TZNAME:EST
DTSTART:20261101T060000
END:STANDARD
BEGIN:DAYLIGHT
TZOFFSETFROM:-0500
TZOFFSETTO:-0400
TZNAME:EDT
DTSTART:20270314T070000
END:DAYLIGHT
BEGIN:STANDARD
TZOFFSETFROM:-0400
TZOFFSETTO:-0500
TZNAME:EST
DTSTART:20271107T060000
END:STANDARD
END:VTIMEZONE
BEGIN:VEVENT
DTSTART;TZID=America/New_York:20260304T190000
DTEND;TZID=America/New_York:20260408T210000
DTSTAMP:20260425T193309
CREATED:20260222T184449Z
LAST-MODIFIED:20260222T184449Z
UID:2114-1772650800-1775682000@raisethebartrivia.com
SUMMARY:Rudders Public House
DESCRIPTION:
URL:https://raisethebartrivia.com/trivia/rudders-public-house-17/
LOCATION:Rudders Public House\, 70 Wallingford Square\, Kittery\, ME\, 03904\, United States
CATEGORIES:Trivia
END:VEVENT
BEGIN:VEVENT
DTSTART;TZID=America/New_York:20260310T180000
DTEND;TZID=America/New_York:20260310T200000
DTSTAMP:20260425T193309
CREATED:20260304T160737Z
LAST-MODIFIED:20260304T160737Z
UID:2175-1773165600-1773172800@raisethebartrivia.com
SUMMARY:Sea Dog Brewing
DESCRIPTION:
URL:https://raisethebartrivia.com/trivia/sea-dog-brewing-36/
LOCATION:Sea Dog Brewing- Exeter\, 5 Water Street\, Exeter\, NH\, 03833\, United States
CATEGORIES:Trivia
END:VEVENT
BEGIN:VEVENT
DTSTART;TZID=America/New_York:20260310T183000
DTEND;TZID=America/New_York:20260310T203000
DTSTAMP:20260425T193309
CREATED:20260304T160651Z
LAST-MODIFIED:20260304T160651Z
UID:2173-1773167400-1773174600@raisethebartrivia.com
SUMMARY:Axe & Ale
DESCRIPTION:
URL:https://raisethebartrivia.com/trivia/axe-ale-20/
LOCATION:Axe & Ale\, 9 Old Lake Shore Road Unit 2\, Gilford\, NH\, 03801\, United States
CATEGORIES:Trivia
END:VEVENT
BEGIN:VEVENT
DTSTART;TZID=America/New_York:20260310T183000
DTEND;TZID=America/New_York:20260310T203000
DTSTAMP:20260425T193309
CREATED:20260304T160852Z
LAST-MODIFIED:20260304T160852Z
UID:2179-1773167400-1773174600@raisethebartrivia.com
SUMMARY:Pepper's Seafood
DESCRIPTION:
URL:https://raisethebartrivia.com/trivia/peppers-seafood-21/
LOCATION:Pepper’s Seafood\, 243 Main Street\, Ogunquit\, ME\, 03907\, United States
CATEGORIES:Trivia
END:VEVENT
BEGIN:VEVENT
DTSTART;TZID=America/New_York:20260310T190000
DTEND;TZID=America/New_York:20260310T200000
DTSTAMP:20260425T193309
CREATED:20260304T160453Z
LAST-MODIFIED:20260304T160453Z
UID:2167-1773169200-1773172800@raisethebartrivia.com
SUMMARY:Thirsty Moose
DESCRIPTION:
URL:https://raisethebartrivia.com/trivia/thirsty-moose-74/
LOCATION:Thirsty Moose – Exeter\, 72 Portsmouth Avenue\, Exeter\, NH\, 03833\, United States
CATEGORIES:Trivia
END:VEVENT
BEGIN:VEVENT
DTSTART;TZID=America/New_York:20260310T190000
DTEND;TZID=America/New_York:20260310T210000
DTSTAMP:20260425T193309
CREATED:20260304T160607Z
LAST-MODIFIED:20260304T160607Z
UID:2171-1773169200-1773176400@raisethebartrivia.com
SUMMARY:Thirsty Moose
DESCRIPTION:
URL:https://raisethebartrivia.com/trivia/thirsty-moose-76/
LOCATION:Thirsty Moose – Dover\, 83 Washigton Street\, Dover\, NH\, 03820\, United States
CATEGORIES:Trivia
END:VEVENT
BEGIN:VEVENT
DTSTART;TZID=America/New_York:20260310T190000
DTEND;TZID=America/New_York:20260310T210000
DTSTAMP:20260425T193309
CREATED:20260304T160814Z
LAST-MODIFIED:20260304T160814Z
UID:2177-1773169200-1773176400@raisethebartrivia.com
SUMMARY:Mill Towne Tavern
DESCRIPTION:
URL:https://raisethebartrivia.com/trivia/mill-towne-tavern-20/
LOCATION:Mill Towne Tavern\, 898 Main Street\, Sanford\, ME\, 04073\, United States
CATEGORIES:Trivia
END:VEVENT
BEGIN:VEVENT
DTSTART;TZID=America/New_York:20260310T190000
DTEND;TZID=America/New_York:20260310T210000
DTSTAMP:20260425T193309
CREATED:20260304T160921Z
LAST-MODIFIED:20260304T160921Z
UID:2181-1773169200-1773176400@raisethebartrivia.com
SUMMARY:Pat's Pizza
DESCRIPTION:
URL:https://raisethebartrivia.com/trivia/pats-pizza-21/
LOCATION:Pat’s Pizza\, 209 US Rt. 1\, Scarborough\, ME\, 04074\, United States
CATEGORIES:Trivia
END:VEVENT
BEGIN:VEVENT
DTSTART;TZID=America/New_York:20260310T190000
DTEND;TZID=America/New_York:20260310T210000
DTSTAMP:20260425T193309
CREATED:20260304T160951Z
LAST-MODIFIED:20260304T160951Z
UID:2183-1773169200-1773176400@raisethebartrivia.com
SUMMARY:The Barn
DESCRIPTION:
URL:https://raisethebartrivia.com/trivia/the-barn-21/
LOCATION:The Barn\, 5 Ring Street\, Amesbury\, MA\, 01913\, United States
CATEGORIES:Trivia
END:VEVENT
BEGIN:VEVENT
DTSTART;TZID=America/New_York:20260310T190000
DTEND;TZID=America/New_York:20260310T210000
DTSTAMP:20260425T193309
CREATED:20260304T161016Z
LAST-MODIFIED:20260304T161016Z
UID:2185-1773169200-1773176400@raisethebartrivia.com
SUMMARY:The Old Salt
DESCRIPTION:
URL:https://raisethebartrivia.com/trivia/the-old-salt-13/
LOCATION:ME
CATEGORIES:Trivia
END:VEVENT
BEGIN:VEVENT
DTSTART;TZID=America/New_York:20260310T201500
DTEND;TZID=America/New_York:20260310T211500
DTSTAMP:20260425T193309
CREATED:20260304T160531Z
LAST-MODIFIED:20260304T160531Z
UID:2169-1773173700-1773177300@raisethebartrivia.com
SUMMARY:Thirsty Moose
DESCRIPTION:
URL:https://raisethebartrivia.com/trivia/thirsty-moose-75/
LOCATION:Thirsty Moose – Exeter\, 72 Portsmouth Avenue\, Exeter\, NH\, 03833\, United States
CATEGORIES:Trivia
END:VEVENT
END:VCALENDAR