BEGIN:VCALENDAR
VERSION:2.0
PRODID:-//Raise The Bar Trivia - ECPv6.15.20//NONSGML v1.0//EN
CALSCALE:GREGORIAN
METHOD:PUBLISH
X-ORIGINAL-URL:https://raisethebartrivia.com
X-WR-CALDESC:Events for Raise The Bar Trivia
REFRESH-INTERVAL;VALUE=DURATION:PT1H
X-Robots-Tag:noindex
X-PUBLISHED-TTL:PT1H
BEGIN:VTIMEZONE
TZID:America/New_York
BEGIN:DAYLIGHT
TZOFFSETFROM:-0500
TZOFFSETTO:-0400
TZNAME:EDT
DTSTART:20250309T070000
END:DAYLIGHT
BEGIN:STANDARD
TZOFFSETFROM:-0400
TZOFFSETTO:-0500
TZNAME:EST
DTSTART:20251102T060000
END:STANDARD
BEGIN:DAYLIGHT
TZOFFSETFROM:-0500
TZOFFSETTO:-0400
TZNAME:EDT
DTSTART:20260308T070000
END:DAYLIGHT
BEGIN:STANDARD
TZOFFSETFROM:-0400
TZOFFSETTO:-0500
TZNAME:EST
DTSTART:20261101T060000
END:STANDARD
BEGIN:DAYLIGHT
TZOFFSETFROM:-0500
TZOFFSETTO:-0400
TZNAME:EDT
DTSTART:20270314T070000
END:DAYLIGHT
BEGIN:STANDARD
TZOFFSETFROM:-0400
TZOFFSETTO:-0500
TZNAME:EST
DTSTART:20271107T060000
END:STANDARD
END:VTIMEZONE
BEGIN:VEVENT
DTSTART;TZID=America/New_York:20260303T180000
DTEND;TZID=America/New_York:20260303T200000
DTSTAMP:20260425T193405
CREATED:20260222T171118Z
LAST-MODIFIED:20260222T171118Z
UID:2071-1772560800-1772568000@raisethebartrivia.com
SUMMARY:Sea Dog Brewing
DESCRIPTION:
URL:https://raisethebartrivia.com/trivia/sea-dog-brewing-34/
LOCATION:Sea Dog Brewing- Exeter\, 5 Water Street\, Exeter\, NH\, 03833\, United States
CATEGORIES:Trivia
END:VEVENT
BEGIN:VEVENT
DTSTART;TZID=America/New_York:20260303T183000
DTEND;TZID=America/New_York:20260303T203000
DTSTAMP:20260425T193405
CREATED:20260222T170949Z
LAST-MODIFIED:20260222T170949Z
UID:2069-1772562600-1772569800@raisethebartrivia.com
SUMMARY:Axe & Ale
DESCRIPTION:
URL:https://raisethebartrivia.com/trivia/axe-ale-19/
LOCATION:Axe & Ale\, 9 Old Lake Shore Road Unit 2\, Gilford\, NH\, 03801\, United States
CATEGORIES:Trivia
END:VEVENT
BEGIN:VEVENT
DTSTART;TZID=America/New_York:20260303T183000
DTEND;TZID=America/New_York:20260303T203000
DTSTAMP:20260425T193405
CREATED:20260222T171643Z
LAST-MODIFIED:20260222T171643Z
UID:2075-1772562600-1772569800@raisethebartrivia.com
SUMMARY:Pepper's Seafood
DESCRIPTION:
URL:https://raisethebartrivia.com/trivia/peppers-seafood-20/
LOCATION:Pepper’s Seafood\, 243 Main Street\, Ogunquit\, ME\, 03907\, United States
CATEGORIES:Trivia
END:VEVENT
BEGIN:VEVENT
DTSTART;TZID=America/New_York:20260303T190000
DTEND;TZID=America/New_York:20260303T200000
DTSTAMP:20260425T193405
CREATED:20260222T170658Z
LAST-MODIFIED:20260222T170658Z
UID:2063-1772564400-1772568000@raisethebartrivia.com
SUMMARY:Thirsty Moose
DESCRIPTION:
URL:https://raisethebartrivia.com/trivia/thirsty-moose-68/
LOCATION:Thirsty Moose – Exeter\, 72 Portsmouth Avenue\, Exeter\, NH\, 03833\, United States
CATEGORIES:Trivia
END:VEVENT
BEGIN:VEVENT
DTSTART;TZID=America/New_York:20260303T190000
DTEND;TZID=America/New_York:20260303T210000
DTSTAMP:20260425T193405
CREATED:20260222T170824Z
LAST-MODIFIED:20260222T170824Z
UID:2067-1772564400-1772571600@raisethebartrivia.com
SUMMARY:Thirsty Moose
DESCRIPTION:
URL:https://raisethebartrivia.com/trivia/thirsty-moose-70/
LOCATION:Thirsty Moose – Dover\, 83 Washigton Street\, Dover\, NH\, 03820\, United States
CATEGORIES:Trivia
END:VEVENT
BEGIN:VEVENT
DTSTART;TZID=America/New_York:20260303T190000
DTEND;TZID=America/New_York:20260303T210000
DTSTAMP:20260425T193405
CREATED:20260222T171250Z
LAST-MODIFIED:20260222T171250Z
UID:2073-1772564400-1772571600@raisethebartrivia.com
SUMMARY:Mill Towne Tavern
DESCRIPTION:
URL:https://raisethebartrivia.com/trivia/mill-towne-tavern-19/
LOCATION:Mill Towne Tavern\, 898 Main Street\, Sanford\, ME\, 04073\, United States
CATEGORIES:Trivia
END:VEVENT
BEGIN:VEVENT
DTSTART;TZID=America/New_York:20260303T190000
DTEND;TZID=America/New_York:20260303T210000
DTSTAMP:20260425T193405
CREATED:20260222T173054Z
LAST-MODIFIED:20260222T173054Z
UID:2077-1772564400-1772571600@raisethebartrivia.com
SUMMARY:Pat's Pizza
DESCRIPTION:
URL:https://raisethebartrivia.com/trivia/pats-pizza-20/
LOCATION:Pat’s Pizza\, 209 US Rt. 1\, Scarborough\, ME\, 04074\, United States
CATEGORIES:Trivia
END:VEVENT
BEGIN:VEVENT
DTSTART;TZID=America/New_York:20260303T190000
DTEND;TZID=America/New_York:20260303T210000
DTSTAMP:20260425T193405
CREATED:20260222T173225Z
LAST-MODIFIED:20260222T173225Z
UID:2079-1772564400-1772571600@raisethebartrivia.com
SUMMARY:The Barn
DESCRIPTION:
URL:https://raisethebartrivia.com/trivia/the-barn-20/
LOCATION:The Barn\, 5 Ring Street\, Amesbury\, MA\, 01913\, United States
CATEGORIES:Trivia
END:VEVENT
BEGIN:VEVENT
DTSTART;TZID=America/New_York:20260303T190000
DTEND;TZID=America/New_York:20260303T210000
DTSTAMP:20260425T193405
CREATED:20260222T173317Z
LAST-MODIFIED:20260222T173317Z
UID:2081-1772564400-1772571600@raisethebartrivia.com
SUMMARY:The Old Salt
DESCRIPTION:
URL:https://raisethebartrivia.com/trivia/the-old-salt-12/
LOCATION:The Old Salt & Lamie’s Tavern\, 490 Lafayette Road\, Hampton\, NH\, 03842\, United States
CATEGORIES:Trivia
END:VEVENT
BEGIN:VEVENT
DTSTART;TZID=America/New_York:20260303T201500
DTEND;TZID=America/New_York:20260303T211500
DTSTAMP:20260425T193405
CREATED:20260222T170750Z
LAST-MODIFIED:20260222T170750Z
UID:2065-1772568900-1772572500@raisethebartrivia.com
SUMMARY:Thirsty Moose
DESCRIPTION:
URL:https://raisethebartrivia.com/trivia/thirsty-moose-69/
LOCATION:Thirsty Moose – Exeter\, 72 Portsmouth Avenue\, Exeter\, NH\, 03833\, United States
CATEGORIES:Trivia
END:VEVENT
END:VCALENDAR