BEGIN:VCALENDAR
VERSION:2.0
PRODID:-//Raise The Bar Trivia - ECPv6.15.20//NONSGML v1.0//EN
CALSCALE:GREGORIAN
METHOD:PUBLISH
X-ORIGINAL-URL:https://raisethebartrivia.com
X-WR-CALDESC:Events for Raise The Bar Trivia
REFRESH-INTERVAL;VALUE=DURATION:PT1H
X-Robots-Tag:noindex
X-PUBLISHED-TTL:PT1H
BEGIN:VTIMEZONE
TZID:America/New_York
BEGIN:DAYLIGHT
TZOFFSETFROM:-0500
TZOFFSETTO:-0400
TZNAME:EDT
DTSTART:20250309T070000
END:DAYLIGHT
BEGIN:STANDARD
TZOFFSETFROM:-0400
TZOFFSETTO:-0500
TZNAME:EST
DTSTART:20251102T060000
END:STANDARD
BEGIN:DAYLIGHT
TZOFFSETFROM:-0500
TZOFFSETTO:-0400
TZNAME:EDT
DTSTART:20260308T070000
END:DAYLIGHT
BEGIN:STANDARD
TZOFFSETFROM:-0400
TZOFFSETTO:-0500
TZNAME:EST
DTSTART:20261101T060000
END:STANDARD
BEGIN:DAYLIGHT
TZOFFSETFROM:-0500
TZOFFSETTO:-0400
TZNAME:EDT
DTSTART:20270314T070000
END:DAYLIGHT
BEGIN:STANDARD
TZOFFSETFROM:-0400
TZOFFSETTO:-0500
TZNAME:EST
DTSTART:20271107T060000
END:STANDARD
END:VTIMEZONE
BEGIN:VEVENT
DTSTART;TZID=America/New_York:20260430T190000
DTEND;TZID=America/New_York:20260430T210000
DTSTAMP:20260425T220958
CREATED:20260417T182831Z
LAST-MODIFIED:20260417T182831Z
UID:2988-1777575600-1777582800@raisethebartrivia.com
SUMMARY:Derryfield Restaurant
DESCRIPTION:
URL:https://raisethebartrivia.com/trivia/derryfield-restaurant-26/
LOCATION:Derryfield Restaurant\, 625 Mammoth Road\, Manchester\, NH\, 03104\, United States
CATEGORIES:Trivia
END:VEVENT
BEGIN:VEVENT
DTSTART;TZID=America/New_York:20260430T190000
DTEND;TZID=America/New_York:20260430T210000
DTSTAMP:20260425T220958
CREATED:20260417T182935Z
LAST-MODIFIED:20260417T182935Z
UID:2992-1777575600-1777582800@raisethebartrivia.com
SUMMARY:Tour Golf
DESCRIPTION:
URL:https://raisethebartrivia.com/trivia/tour-golf-24/
LOCATION:Tour Golf & Grill\, 581 Lafayette Road\, Portsmouth\, NH\, 03801\, United States
CATEGORIES:Trivia
END:VEVENT
BEGIN:VEVENT
DTSTART;TZID=America/New_York:20260501T180000
DTEND;TZID=America/New_York:20260501T200000
DTSTAMP:20260425T220958
CREATED:20260417T183018Z
LAST-MODIFIED:20260417T183018Z
UID:2994-1777658400-1777665600@raisethebartrivia.com
SUMMARY:Cryptic Beer Lounge
DESCRIPTION:
URL:https://raisethebartrivia.com/trivia/cryptic-beer-lounge-13/
LOCATION:Cryptic Beer Lounge\, 40 Manchester Road\, Derry\, NH\, NH\, 03038\, United States
CATEGORIES:Trivia
END:VEVENT
BEGIN:VEVENT
DTSTART;TZID=America/New_York:20260502T190000
DTEND;TZID=America/New_York:20260502T210000
DTSTAMP:20260425T220958
CREATED:20260417T183050Z
LAST-MODIFIED:20260417T183050Z
UID:2996-1777748400-1777755600@raisethebartrivia.com
SUMMARY:Shipyard Brew Pub
DESCRIPTION:
URL:https://raisethebartrivia.com/trivia/shipyard-brew-pub/
LOCATION:Shipyard Brewpub\, 28 Levesque Drive\, Eliot\, ME\, 03903\, United States
CATEGORIES:Trivia
END:VEVENT
BEGIN:VEVENT
DTSTART;TZID=America/New_York:20260503T190000
DTEND;TZID=America/New_York:20260503T210000
DTSTAMP:20260425T220958
CREATED:20260417T183121Z
LAST-MODIFIED:20260417T183121Z
UID:2998-1777834800-1777842000@raisethebartrivia.com
SUMMARY:Bramhall
DESCRIPTION:
URL:https://raisethebartrivia.com/trivia/bramhall-25/
LOCATION:Bramhall\, 769 Congress Street\, Portland\, ME\, 04102\, United States
CATEGORIES:Trivia
END:VEVENT
END:VCALENDAR